BEGIN:VCALENDAR
VERSION:2.0
PRODID:maik-aussendorf.de
METHOD:PUBLISH
BEGIN:VTIMEZONE
TZID:Europe/Berlin
X-LIC-LOCATION:Europe/Berlin
BEGIN:DAYLIGHT
TZOFFSETFROM:+0100
TZOFFSETTO:+0200
TZNAME:CEST
DTSTART:19700329T020000
RRULE:FREQ=YEARLY;INTERVAL=1;BYDAY=-1SU;BYMONTH=3
END:DAYLIGHT
BEGIN:STANDARD
TZOFFSETFROM:+0200
TZOFFSETTO:+0100
TZNAME:CET
DTSTART:19701025T030000
RRULE:FREQ=YEARLY;INTERVAL=1;BYDAY=-1SU;BYMONTH=10
END:STANDARD
END:VTIMEZONE
BEGIN:VEVENT
UID:c21f8efca878680cba13854dc8c4d85d@maik-aussendorf.de
URL;VALUE=URI:https://maik-aussendorf.de/termine/digitale-buergerinnen-sp
 rechstunde-2/
LOCATION:Trotzenburgplatz vor der Post, Bergisch Gladbach Innenstadt
SUMMARY:Bürger*innen-Sprechstunde in der Gladbacher Innenstadt
DESCRIPTION;ALTREP="data:text/html,%0A%3Cp%3EHaben%20Sie%20Fragen%2C%20W%
 C3%BCnsche%20oder%20Anregungen%20f%C3%BCr%20mich%20oder%20m%C3%B6chten%20
 Sie%20sich%20mit%20mir%20%C3%BCber%20gr%C3%BCne%20Themen%20austauschen%3F
 %20Dann%20kommen%20Sie%20zu%20meiner%20B%C3%BCrger%2Ainnensprechstunde%20
 am%20Donnerstag%2C%20den%2005.05.%20von%2017%20bis%2018%20Uhr%21%3C%2Fp%3
 E%0A%0A%0A%0A%3Cp%20id%3D%22block-d4f53806-5857-472b-a06c-6f2dcf683fee%22
 %3EDie%20B%C3%BCrger%2Ainnen-Sprechstunde%20findet%20endlich%20mal%20wied
 er%20in%20Pr%C3%A4senz%20statt%2C%20sie%20finden%20mich%20in%20der%20Glad
 bacher%20Innenstadt%20auf%20dem%20Trotzenburgplatz%20vor%20der%20Post.%20
 %3C%2Fp%3E%0A%0A%0A%0A%3Cp%20id%3D%22block-4be3c5b1-4e31-447b-9cc1-198a1b
 7f966b%22%3EIch%20freue%20mich%20auf%20das%20Gespr%C3%A4ch%20mit%20Ihnen%
 21%3C%2Fp%3E%0A":Haben Sie Fragen\, Wünsche oder Anregungen für mich od
 er möchten Sie sich mit mir über grüne Themen austauschen? Dann kommen
  Sie zu meiner Bürger*innensprechstunde am Donnerstag\, den 05.05. von 1
 7 bis 18 Uhr!\n\nDie Bürger*innen-Sprechstunde findet endlich mal wieder
  in Präsenz statt\, sie finden mich in der Gladbacher Innenstadt auf dem
  Trotzenburgplatz vor der Post.\n\nIch freue mich auf das Gespräch mit I
 hnen!
CLASS:PUBLIC
DTSTART;TZID=Europe/Berlin:20220505T170000
DTEND;TZID=Europe/Berlin:20220505T180000
DTSTAMP:20260422T042106
END:VEVENT
END:VCALENDAR