BEGIN:VCALENDAR
VERSION:2.0
PRODID:maik-aussendorf.de
METHOD:PUBLISH
BEGIN:VTIMEZONE
TZID:Europe/Berlin
X-LIC-LOCATION:Europe/Berlin
BEGIN:DAYLIGHT
TZOFFSETFROM:+0100
TZOFFSETTO:+0200
TZNAME:CEST
DTSTART:19700329T020000
RRULE:FREQ=YEARLY;INTERVAL=1;BYDAY=-1SU;BYMONTH=3
END:DAYLIGHT
BEGIN:STANDARD
TZOFFSETFROM:+0200
TZOFFSETTO:+0100
TZNAME:CET
DTSTART:19701025T030000
RRULE:FREQ=YEARLY;INTERVAL=1;BYDAY=-1SU;BYMONTH=10
END:STANDARD
END:VTIMEZONE
BEGIN:VEVENT
UID:731868071cfc7061efd9f0f92c315d1d@maik-aussendorf.de
URL;VALUE=URI:https://maik-aussendorf.de/termine/bericht-aus-berlin-4/
LOCATION:Wahlkreisbüro, Laurentiusstr. 22, Bergisch Gladbach
SUMMARY:Bericht aus Berlin
DESCRIPTION;ALTREP="data:text/html,%0A%3Cp%3EWas%20mache%20ich%20die%20ga
 nze%20Zeit%20in%20Berlin%3F%20Wie%20h%C3%A4ngt%20das%20mit%20dem%20Rheini
 sch-Bergischen%20Kreis%20zusammen%3F%20Welche%20Themen%20diskutieren%20wi
 r%20aktuell%20im%20Bundestag%20und%20in%20der%20gr%C3%BCnen%20Fraktion%3F
 %20Und%20wie%20stehe%20ich%20zu%20diesen%20Themen%3F%3C%2Fp%3E%0A%0A%0A%0
 A%3Cp%3EDar%C3%BCber%20m%C3%B6chte%20ich%20mit%20dir%20ins%20Gespr%C3%A4c
 h%20kommen.%20Neben%20meinem%20Bericht%20wird%20es%20nat%C3%BCrlich%20auc
 h%20Raum%20f%C3%BCr%20all%20eure%20Fragen%20geben.%3C%2Fp%3E%0A%0A%0A%0A%
 3Cp%3EZum%20n%C3%A4chsten%20Bericht%20aus%20Berlin%20am%20Montag%2C%20den
 %2023.%20Oktober%20um%2019%3A30%20Uhr%20m%C3%B6chte%20ich%20dich%20ganz%2
 0herzlich%20einladen.%20Die%20Veranstaltung%20findet%20statt%20in%20meine
 m%20Wahlkreisb%C3%BCro%20in%20der%20Laurentiusstra%C3%9Fe%2022%20in%20Ber
 gisch%20Gladbach.%20%C3%9Cber%20eine%20kurze%20Anmeldung%20an%C2%A0%3Ca%2
 0href%3D%22https%3A%2F%2Fmaik-aussendorf.de%2Ftermine%2Fbericht-aus-berli
 n-2%2F%23%22%3Emaik.aussendorf.wk%40bundestag.de%3C%2Fa%3E%C2%A0zur%20bes
 seren%20Planung%20freuen%20wir%20uns%2C%20du%20kannst%20aber%20auch%20spo
 ntan%20vorbeikommen.%3C%2Fp%3E%0A":Was mache ich die ganze Zeit in Berlin
 ? Wie hängt das mit dem Rheinisch-Bergischen Kreis zusammen? Welche Them
 en diskutieren wir aktuell im Bundestag und in der grünen Fraktion? Und 
 wie stehe ich zu diesen Themen?\n\nDarüber möchte ich mit dir ins Gespr
 äch kommen. Neben meinem Bericht wird es natürlich auch Raum für all e
 ure Fragen geben.\n\nZum nächsten Bericht aus Berlin am Montag\, den 23.
  Oktober um 19:30 Uhr möchte ich dich ganz herzlich einladen. Die Verans
 taltung findet statt in meinem Wahlkreisbüro in der Laurentiusstraße 22
  in Bergisch Gladbach. Über eine kurze Anmeldung an maik.aussendorf.wk@
 bundestag.de zur besseren Planung freuen wir uns\, du kannst aber auch s
 pontan vorbeikommen.
CLASS:PUBLIC
DTSTART;TZID=Europe/Berlin:20231023T193000
DTEND;TZID=Europe/Berlin:20231023T203000
DTSTAMP:20260425T170248
END:VEVENT
END:VCALENDAR