BEGIN:VCALENDAR
VERSION:2.0
PRODID:maik-aussendorf.de
METHOD:PUBLISH
BEGIN:VTIMEZONE
TZID:Europe/Berlin
X-LIC-LOCATION:Europe/Berlin
BEGIN:DAYLIGHT
TZOFFSETFROM:+0100
TZOFFSETTO:+0200
TZNAME:CEST
DTSTART:19700329T020000
RRULE:FREQ=YEARLY;INTERVAL=1;BYDAY=-1SU;BYMONTH=3
END:DAYLIGHT
BEGIN:STANDARD
TZOFFSETFROM:+0200
TZOFFSETTO:+0100
TZNAME:CET
DTSTART:19701025T030000
RRULE:FREQ=YEARLY;INTERVAL=1;BYDAY=-1SU;BYMONTH=10
END:STANDARD
END:VTIMEZONE
BEGIN:VEVENT
UID:12b7dac13ca3ab968ed6eb52d879d9d9@maik-aussendorf.de
URL;VALUE=URI:https://maik-aussendorf.de/termine/bericht-aus-berlin-2/
LOCATION:Wahlkreisbüro, Laurentiusstraße 22, Bergisch Gladbach
SUMMARY:Bericht aus Berlin
DESCRIPTION;ALTREP="data:text/html,%0A%3Cp%3EWas%20mache%20ich%20die%20ga
 nze%20Zeit%20in%20Berlin%3F%20Wie%20h%C3%A4ngt%20das%20mit%20dem%20Rheini
 sch-Bergischen%20Kreis%20zusammen%3F%20Welche%20Themen%20diskutieren%20wi
 r%20aktuell%20im%20Bundestag%20und%20in%20der%20gr%C3%BCnen%20Fraktion%3F
 %20Und%20wie%20stehe%20ich%20zu%20diesen%20Themen%3F%3C%2Fp%3E%0A%0A%0A%0
 A%3Cp%3EDar%C3%BCber%20m%C3%B6chte%20ich%20mit%20dir%20ins%20Gespr%C3%A4c
 h%20kommen.%20Neben%20meinem%20Bericht%20wird%20es%20nat%C3%BCrlich%20auc
 h%20Raum%20f%C3%BCr%20all%20eure%20Fragen%20geben.%3C%2Fp%3E%0A%0A%0A%0A%
 3Cp%3EZum%20n%C3%A4chsten%20Bericht%20aus%20Berlin%20am%20Donnerstag%2C%2
 0den%2013.%20April%20um%2019%3A30%20Uhr%20m%C3%B6chte%20ich%20dich%20ganz
 %20herzlich%20einladen.%20Die%20Veranstaltung%20findet%20statt%20in%20mei
 nem%20Wahlkreisb%C3%BCro%20in%20der%20Laurentiusstra%C3%9Fe%2022%20in%20B
 ergisch%20Gladbach.%20%C3%9Cber%20eine%20kurze%20Anmeldung%20an%20%3Ca%20
 href%3D%22mailto%3Amaik.aussendorf.wk%40bundestag.de%22%3Emaik.aussendorf
 .wk%40bundestag.de%3C%2Fa%3E%20zur%20besseren%20Planung%20freuen%20wir%20
 uns%2C%20du%20kannst%20aber%20auch%20spontan%20vorbeikommen.%3C%2Fp%3E%0A
 ":Was mache ich die ganze Zeit in Berlin? Wie hängt das mit dem Rheinisc
 h-Bergischen Kreis zusammen? Welche Themen diskutieren wir aktuell im Bun
 destag und in der grünen Fraktion? Und wie stehe ich zu diesen Themen?\n
 \nDarüber möchte ich mit dir ins Gespräch kommen. Neben meinem Bericht
  wird es natürlich auch Raum für all eure Fragen geben.\n\nZum nächste
 n Bericht aus Berlin am Donnerstag\, den 13. April um 19:30 Uhr möchte i
 ch dich ganz herzlich einladen. Die Veranstaltung findet statt in meinem 
 Wahlkreisbüro in der Laurentiusstraße 22 in Bergisch Gladbach. Über ei
 ne kurze Anmeldung an maik.aussendorf.wk@bundestag.de zur besseren Planun
 g freuen wir uns\, du kannst aber auch spontan vorbeikommen.
CLASS:PUBLIC
DTSTART;TZID=Europe/Berlin:20230413T193000
DTEND;TZID=Europe/Berlin:20230413T203000
DTSTAMP:20260425T183239
END:VEVENT
END:VCALENDAR